BEGIN:VCALENDAR
VERSION:2.0
PRODID:-//Good2Clean - ECPv6.3.4//NONSGML v1.0//EN
CALSCALE:GREGORIAN
METHOD:PUBLISH
X-WR-CALNAME:Good2Clean
X-ORIGINAL-URL:https://good2clean.com.au
X-WR-CALDESC:Events for Good2Clean
REFRESH-INTERVAL;VALUE=DURATION:PT1H
X-Robots-Tag:noindex
X-PUBLISHED-TTL:PT1H
BEGIN:VTIMEZONE
TZID:Australia/Melbourne
BEGIN:STANDARD
TZOFFSETFROM:+1100
TZOFFSETTO:+1000
TZNAME:AEST
DTSTART:20210403T160000
END:STANDARD
BEGIN:DAYLIGHT
TZOFFSETFROM:+1000
TZOFFSETTO:+1100
TZNAME:AEDT
DTSTART:20211002T160000
END:DAYLIGHT
BEGIN:STANDARD
TZOFFSETFROM:+1100
TZOFFSETTO:+1000
TZNAME:AEST
DTSTART:20220402T160000
END:STANDARD
BEGIN:DAYLIGHT
TZOFFSETFROM:+1000
TZOFFSETTO:+1100
TZNAME:AEDT
DTSTART:20221001T160000
END:DAYLIGHT
BEGIN:STANDARD
TZOFFSETFROM:+1100
TZOFFSETTO:+1000
TZNAME:AEST
DTSTART:20230401T160000
END:STANDARD
BEGIN:DAYLIGHT
TZOFFSETFROM:+1000
TZOFFSETTO:+1100
TZNAME:AEDT
DTSTART:20230930T160000
END:DAYLIGHT
END:VTIMEZONE
BEGIN:VEVENT
DTSTART;TZID=Australia/Melbourne:20211231T180000
DTEND;TZID=Australia/Melbourne:20230102T030000
DTSTAMP:20260423T160316
CREATED:20140730T143116Z
LAST-MODIFIED:20140730T143116Z
UID:9273-1640973600-1672628400@good2clean.com.au
SUMMARY:F.ounders / START NY
DESCRIPTION:Event description\n\n	\n	\n	\n\n\n	\n		\n	We’ve seen a thing or two when it comes to the cleanliness of homes. Read below to find out the most commonly overlooked areas in the kitchen & learn how to quickly clean them. \n\n	\n\n\n\n			\n	\n	\n		\n	\n	\n	Programme structure\n\n	\n	\n	\n\n\n	\n		\n	Your Neglected Dish Rack \nSponges \nThe Microwave \nThe Garbage Disposal & Sink Drain
URL:https://good2clean.com.au/classes/f-ounders-start-ny/
LOCATION:New York Ardesia Bar\, Lexington Avenue\, New York\, NY\, 10022\, United States
CATEGORIES:Cleaning,Engineering,Management
ATTACH;FMTTYPE=image/jpeg:https://good2clean.com.au/wp-content/uploads/2017/04/photo-2.jpg
ORGANIZER;CN="Michael":MAILTO:junk@vamtam.com
END:VEVENT
END:VCALENDAR